BEGIN:VCALENDAR
VERSION:2.0
PRODID:-//Honeoye Falls Community Concert Band - ECPv6.15.20//NONSGML v1.0//EN
CALSCALE:GREGORIAN
METHOD:PUBLISH
X-WR-CALNAME:Honeoye Falls Community Concert Band
X-ORIGINAL-URL:https://hfccb.org
X-WR-CALDESC:Events for Honeoye Falls Community Concert Band
REFRESH-INTERVAL;VALUE=DURATION:PT1H
X-Robots-Tag:noindex
X-PUBLISHED-TTL:PT1H
BEGIN:VTIMEZONE
TZID:America/New_York
BEGIN:DAYLIGHT
TZOFFSETFROM:-0500
TZOFFSETTO:-0400
TZNAME:EDT
DTSTART:20250309T070000
END:DAYLIGHT
BEGIN:STANDARD
TZOFFSETFROM:-0400
TZOFFSETTO:-0500
TZNAME:EST
DTSTART:20251102T060000
END:STANDARD
BEGIN:DAYLIGHT
TZOFFSETFROM:-0500
TZOFFSETTO:-0400
TZNAME:EDT
DTSTART:20260308T070000
END:DAYLIGHT
BEGIN:STANDARD
TZOFFSETFROM:-0400
TZOFFSETTO:-0500
TZNAME:EST
DTSTART:20261101T060000
END:STANDARD
BEGIN:DAYLIGHT
TZOFFSETFROM:-0500
TZOFFSETTO:-0400
TZNAME:EDT
DTSTART:20270314T070000
END:DAYLIGHT
BEGIN:STANDARD
TZOFFSETFROM:-0400
TZOFFSETTO:-0500
TZNAME:EST
DTSTART:20271107T060000
END:STANDARD
END:VTIMEZONE
BEGIN:VEVENT
DTSTART;TZID=America/New_York:20260620T190000
DTEND;TZID=America/New_York:20260620T210000
DTSTAMP:20260423T094932
CREATED:20250825T225546Z
LAST-MODIFIED:20250825T230018Z
UID:12384-1781982000-1781989200@hfccb.org
SUMMARY:June Concert in the Park
DESCRIPTION:Join us for a free outdoor concert on Saturday\, June 20th in Harry Allen Park!
URL:https://hfccb.org/event/june-concert-in-the-park/
LOCATION:Harry Allen Park\, 23 N Main St\, Honeoye Falls\, NY\, 14472\, United States
CATEGORIES:Concerts
END:VEVENT
BEGIN:VEVENT
DTSTART;TZID=America/New_York:20260718T180000
DTEND;TZID=America/New_York:20260718T190000
DTSTAMP:20260423T094932
CREATED:20260412T121215Z
LAST-MODIFIED:20260412T121215Z
UID:12410-1784397600-1784401200@hfccb.org
SUMMARY:Lake George Community Band Festival
DESCRIPTION:HFCCB will return to Lake George for the 20th Annual Lake George Community Band Festival in Shepard Park! Additional details coming soon.
URL:https://hfccb.org/event/lake-george-community-band-festival/
LOCATION:Shepard Park\, Canada Street\, Lake George\, NY\, 12845\, United States
CATEGORIES:Concerts
END:VEVENT
BEGIN:VEVENT
DTSTART;TZID=America/New_York:20260801T190000
DTEND;TZID=America/New_York:20260801T210000
DTSTAMP:20260423T094932
CREATED:20250825T225645Z
LAST-MODIFIED:20250825T230003Z
UID:12386-1785610800-1785618000@hfccb.org
SUMMARY:August Concert in the Park
DESCRIPTION:Join us for a free outdoor concert on Saturday\, August 1st in Harry Allen Park!
URL:https://hfccb.org/event/aug-concert-in-the-park/
LOCATION:Harry Allen Park\, 23 N Main St\, Honeoye Falls\, NY\, 14472\, United States
CATEGORIES:Concerts
END:VEVENT
END:VCALENDAR